BEGIN:VCALENDAR
VERSION:2.0
PRODID:icalendar-ruby
CALSCALE:GREGORIAN
METHOD:PUBLISH
BEGIN:VEVENT
DTSTAMP:20260425T161026Z
UID:c929d37d-b17d-4b9d-9fcb-94d2b7f021b3
DTSTART;VALUE=DATE:20251116
DTEND;VALUE=DATE:20251116
DESCRIPTION:Abbotsford BMX
LOCATION:32470 Haida Drive  Abbotsford BC V2T5A6 CAN
SUMMARY:Local Race Single
URL:/site/bmx_races/593743
END:VEVENT
END:VCALENDAR
