BEGIN:VCALENDAR
VERSION:2.0
PRODID:icalendar-ruby
CALSCALE:GREGORIAN
METHOD:PUBLISH
BEGIN:VEVENT
DTSTAMP:20260424T091847Z
UID:5b0f7123-730f-4067-813a-77a4d218aec1
DTSTART;VALUE=DATE:20251108
DTEND;VALUE=DATE:20251108
DESCRIPTION:Heartland BMX
LOCATION:4801 Sw Shunga Dr  Topeka KS 66614 USA
SUMMARY:Warnicke Double
URL:/site/bmx_races/593656
END:VEVENT
END:VCALENDAR
