BEGIN:VCALENDAR
VERSION:2.0
PRODID:icalendar-ruby
CALSCALE:GREGORIAN
METHOD:PUBLISH
BEGIN:VEVENT
DTSTAMP:20260425T110719Z
UID:296734d7-2982-478f-ba16-182187fdc2b0
DTSTART;VALUE=DATE:20251104
DTEND;VALUE=DATE:20251104
DESCRIPTION:Okeeheelee BMX
LOCATION:8145 Forest Hill Blvd  West Palm Beach FL 33413 USA
SUMMARY:Local Race Single
URL:/site/bmx_races/593582
END:VEVENT
END:VCALENDAR
