BEGIN:VCALENDAR
VERSION:2.0
PRODID:icalendar-ruby
CALSCALE:GREGORIAN
METHOD:PUBLISH
BEGIN:VEVENT
DTSTAMP:20260424T232556Z
UID:9b323bbe-d80d-4a44-8aee-b4818776e1bb
DTSTART;VALUE=DATE:20251021
DTEND;VALUE=DATE:20251021
DESCRIPTION:Mayes County BMX
LOCATION:526 Airport Rd At Hwy 69 S  Pryor OK 74363 USA
SUMMARY:Local Race Single
URL:/site/bmx_races/593399
END:VEVENT
END:VCALENDAR
