BEGIN:VCALENDAR
VERSION:2.0
PRODID:icalendar-ruby
CALSCALE:GREGORIAN
METHOD:PUBLISH
BEGIN:VEVENT
DTSTAMP:20260424T230503Z
UID:eed4e075-6b41-4f28-bf27-54259d0cf486
DTSTART;VALUE=DATE:20251019
DTEND;VALUE=DATE:20251019
DESCRIPTION:Central Jersey BMX
LOCATION:2449 U.S. 9  Howell NJ 7731 USA
SUMMARY:Local Race Single
URL:/site/bmx_races/593367
END:VEVENT
END:VCALENDAR
