BEGIN:VCALENDAR
VERSION:2.0
PRODID:icalendar-ruby
CALSCALE:GREGORIAN
METHOD:PUBLISH
BEGIN:VEVENT
DTSTAMP:20260425T125453Z
UID:d7faa4d1-0146-4f11-bd6e-bf109298616b
DTSTART;VALUE=DATE:20251014
DTEND;VALUE=DATE:20251014
DESCRIPTION:Shelby Farms BMX
LOCATION:6435 Walnut Grove Rd  Memphis TN 38119 USA
SUMMARY:Local Race Single
URL:/site/bmx_races/593327
END:VEVENT
END:VCALENDAR
