BEGIN:VCALENDAR
VERSION:2.0
PRODID:icalendar-ruby
CALSCALE:GREGORIAN
METHOD:PUBLISH
BEGIN:VEVENT
DTSTAMP:20260424T143743Z
UID:19bb13c7-4401-404e-8f72-95000793eeae
DTSTART;VALUE=DATE:20251007
DTEND;VALUE=DATE:20251007
DESCRIPTION:Jacksonville BMX
LOCATION:1946 Ray Greene Drive  Jacksonville FL 32218 USA
SUMMARY:Local Race Single
URL:/site/bmx_races/593283
END:VEVENT
END:VCALENDAR
