BEGIN:VCALENDAR
VERSION:2.0
PRODID:icalendar-ruby
CALSCALE:GREGORIAN
METHOD:PUBLISH
BEGIN:VEVENT
DTSTAMP:20260424T212548Z
UID:b36d6b18-3e9d-4a91-b97c-e6d03bedb23f
DTSTART;VALUE=DATE:20251005
DTEND;VALUE=DATE:20251005
DESCRIPTION:Milton BMX - Track 2000 
LOCATION:Drumquin Park   Britania Road Milton ON L9T 7G6 CAN
SUMMARY:Local Race Single
URL:/site/bmx_races/593186
END:VEVENT
END:VCALENDAR
