BEGIN:VCALENDAR
VERSION:2.0
PRODID:icalendar-ruby
CALSCALE:GREGORIAN
METHOD:PUBLISH
BEGIN:VEVENT
DTSTAMP:20260425T015339Z
UID:f6fd7db8-d02f-4329-a79e-1b574cfb32da
DTSTART;VALUE=DATE:20250811
DTEND;VALUE=DATE:20250811
DESCRIPTION:Falls BMX Park
LOCATION:7553 Beechwood Rd  Niagara Falls ON L2E6S5 CAN
SUMMARY:Local Race Single
URL:/site/bmx_races/593151
END:VEVENT
END:VCALENDAR
