BEGIN:VCALENDAR
VERSION:2.0
PRODID:icalendar-ruby
CALSCALE:GREGORIAN
METHOD:PUBLISH
BEGIN:VEVENT
DTSTAMP:20260425T030759Z
UID:89b207bf-223d-4984-b501-c395eea0c7c6
DTSTART;VALUE=DATE:20250925
DTEND;VALUE=DATE:20250925
DESCRIPTION:Wheelhouse BMX
LOCATION:10401 E Hwy 89 A   Prescott AZ 86315 USA
SUMMARY:Local Race Single
URL:/site/bmx_races/593133
END:VEVENT
END:VCALENDAR
