BEGIN:VCALENDAR
VERSION:2.0
PRODID:icalendar-ruby
CALSCALE:GREGORIAN
METHOD:PUBLISH
BEGIN:VEVENT
DTSTAMP:20260424T154552Z
UID:e97b2c49-7e4a-46e1-9958-3e59582ea431
DTSTART;VALUE=DATE:20250927
DTEND;VALUE=DATE:20250927
DESCRIPTION:The Hill BMX
LOCATION:709 Sports Way  Elgin IL 60123 USA
SUMMARY:Earned Double
URL:/site/bmx_races/593113
END:VEVENT
END:VCALENDAR
