BEGIN:VCALENDAR
VERSION:2.0
PRODID:icalendar-ruby
CALSCALE:GREGORIAN
METHOD:PUBLISH
BEGIN:VEVENT
DTSTAMP:20260425T024813Z
UID:e7120f0f-e0e2-410e-ac23-6282d066864f
DTSTART;VALUE=DATE:20250921
DTEND;VALUE=DATE:20250921
DESCRIPTION:Fernley BMX
LOCATION:212 Mull Ln  Fernley NV 89408 USA
SUMMARY:Local Race Single
URL:/site/bmx_races/593082
END:VEVENT
END:VCALENDAR
