BEGIN:VCALENDAR
VERSION:2.0
PRODID:icalendar-ruby
CALSCALE:GREGORIAN
METHOD:PUBLISH
BEGIN:VEVENT
DTSTAMP:20260424T191727Z
UID:3959aad0-258c-4a61-a9f1-25cd33564a39
DTSTART;VALUE=DATE:20250920
DTEND;VALUE=DATE:20250920
DESCRIPTION:Hardesty National BMX Stadium
LOCATION:490 N Lansing Ave  Tulsa OK 74120 USA
SUMMARY:Race for Life Single
URL:/site/bmx_races/593003
END:VEVENT
END:VCALENDAR
