BEGIN:VCALENDAR
VERSION:2.0
PRODID:icalendar-ruby
CALSCALE:GREGORIAN
METHOD:PUBLISH
BEGIN:VEVENT
DTSTAMP:20260425T200110Z
UID:a7437956-1126-472a-b18e-e843bd7c05d9
DTSTART;VALUE=DATE:20250920
DTEND;VALUE=DATE:20250920
DESCRIPTION:Reno Battleborn BMX
LOCATION:Sun Valley Gid Community Park 115 W 6th Ave Sun Valley NV 89433 US
 A
SUMMARY:Local Race Single
URL:/site/bmx_races/592981
END:VEVENT
END:VCALENDAR
