BEGIN:VCALENDAR
VERSION:2.0
PRODID:icalendar-ruby
CALSCALE:GREGORIAN
METHOD:PUBLISH
BEGIN:VEVENT
DTSTAMP:20260425T110711Z
UID:0f0909f6-fd04-4e14-9a97-869e2f811c7e
DTSTART;VALUE=DATE:20250923
DTEND;VALUE=DATE:20250923
DESCRIPTION:Kettering BMX
LOCATION:1700 Delco Park Dr  Kettering OH 45429 USA
SUMMARY:Local Race Single
URL:/site/bmx_races/592979
END:VEVENT
END:VCALENDAR
