BEGIN:VCALENDAR
VERSION:2.0
PRODID:icalendar-ruby
CALSCALE:GREGORIAN
METHOD:PUBLISH
BEGIN:VEVENT
DTSTAMP:20260425T231518Z
UID:f8c5c197-8d76-463d-baf8-883508285efd
DTSTART;VALUE=DATE:20250905
DTEND;VALUE=DATE:20250905
DESCRIPTION:Gallatin Valley BMX
LOCATION: 620 N 5th Ave  Bozeman MT 59715 USA
SUMMARY:Earned Double
URL:/site/bmx_races/592929
END:VEVENT
END:VCALENDAR
