BEGIN:VCALENDAR
VERSION:2.0
PRODID:icalendar-ruby
CALSCALE:GREGORIAN
METHOD:PUBLISH
BEGIN:VEVENT
DTSTAMP:20260425T125436Z
UID:d9866c02-e26e-4a04-8813-dc747fcf237c
DTSTART;VALUE=DATE:20250910
DTEND;VALUE=DATE:20250910
DESCRIPTION:Burdette Park BMX
LOCATION:5821 Nurrenbern Rd  Evansville IN 47712 USA
SUMMARY:Local Race Single
URL:/site/bmx_races/592795
END:VEVENT
END:VCALENDAR
