BEGIN:VCALENDAR
VERSION:2.0
PRODID:icalendar-ruby
CALSCALE:GREGORIAN
METHOD:PUBLISH
BEGIN:VEVENT
DTSTAMP:20260424T152419Z
UID:b611b5c2-3c8e-4ea9-a65c-45da38c49b1d
DTSTART;VALUE=DATE:20250907
DTEND;VALUE=DATE:20250907
DESCRIPTION:Bethel Supercross BMX
LOCATION:162 Old Hawleyville Rd  Bethel CT 06801 USA
SUMMARY:State Final Triple
URL:/site/bmx_races/592683
END:VEVENT
END:VCALENDAR
