BEGIN:VCALENDAR
VERSION:2.0
PRODID:icalendar-ruby
CALSCALE:GREGORIAN
METHOD:PUBLISH
BEGIN:VEVENT
DTSTAMP:20260425T131139Z
UID:8557835c-4256-454e-ab23-0ec276b3ddf0
DTSTART;VALUE=DATE:20250906
DTEND;VALUE=DATE:20250906
DESCRIPTION:Twin Silo BMX
LOCATION:5400 Ziegler Rd.   Ft Collins CO 80528 USA
SUMMARY:Local Race Single
URL:/site/bmx_races/592657
END:VEVENT
END:VCALENDAR
