BEGIN:VCALENDAR
VERSION:2.0
PRODID:icalendar-ruby
CALSCALE:GREGORIAN
METHOD:PUBLISH
BEGIN:VEVENT
DTSTAMP:20260425T171939Z
UID:5f0ebf8b-9503-4056-b2ed-800de08febe1
DTSTART;VALUE=DATE:20250828
DTEND;VALUE=DATE:20250828
DESCRIPTION:North Shore BMX
LOCATION:1301 Lillooet Road  North Vancouver BC V7J 3T7 CAN
SUMMARY:Local Race Single
URL:/site/bmx_races/592642
END:VEVENT
END:VCALENDAR
