BEGIN:VCALENDAR
VERSION:2.0
PRODID:icalendar-ruby
CALSCALE:GREGORIAN
METHOD:PUBLISH
BEGIN:VEVENT
DTSTAMP:20260425T161023Z
UID:633f2564-390c-42f7-bc9d-76785fc9fcc2
DTSTART;VALUE=DATE:20250904
DTEND;VALUE=DATE:20250904
DESCRIPTION:Supertrak BMX
LOCATION:Carrie Jane Gray Park 323 Del Laverdure Way Prince George BC V2N4Z
 5 CAN
SUMMARY:Local Race Single
URL:/site/bmx_races/592632
END:VEVENT
END:VCALENDAR
