BEGIN:VCALENDAR
VERSION:2.0
PRODID:icalendar-ruby
CALSCALE:GREGORIAN
METHOD:PUBLISH
BEGIN:VEVENT
DTSTAMP:20260424T234049Z
UID:d2342db7-f667-488d-bbd4-3647aebf22a8
DTSTART;VALUE=DATE:20250903
DTEND;VALUE=DATE:20250903
DESCRIPTION:Dacono BMX
LOCATION:113 Forest Ave  Dacono CO 80514 USA
SUMMARY:Local Race Single
URL:/site/bmx_races/592623
END:VEVENT
END:VCALENDAR
