BEGIN:VCALENDAR
VERSION:2.0
PRODID:icalendar-ruby
CALSCALE:GREGORIAN
METHOD:PUBLISH
BEGIN:VEVENT
DTSTAMP:20260425T152649Z
UID:7e238a9e-a783-4cec-bf18-08fec6c62717
DTSTART;VALUE=DATE:20250829
DTEND;VALUE=DATE:20250829
DESCRIPTION:Okeeheelee BMX
LOCATION:8145 Forest Hill Blvd  West Palm Beach FL 33413 USA
SUMMARY:Local Race Single
URL:/site/bmx_races/592571
END:VEVENT
END:VCALENDAR
