BEGIN:VCALENDAR
VERSION:2.0
PRODID:icalendar-ruby
CALSCALE:GREGORIAN
METHOD:PUBLISH
BEGIN:VEVENT
DTSTAMP:20260425T115812Z
UID:ca530ac3-6b48-4a6a-8301-ebcf634f422f
DTSTART;VALUE=DATE:20250831
DTEND;VALUE=DATE:20250831
DESCRIPTION:Central Jersey BMX
LOCATION:2449 U.S. 9  Howell NJ 7731 USA
SUMMARY:Local Race Single
URL:/site/bmx_races/592570
END:VEVENT
END:VCALENDAR
