BEGIN:VCALENDAR
VERSION:2.0
PRODID:icalendar-ruby
CALSCALE:GREGORIAN
METHOD:PUBLISH
BEGIN:VEVENT
DTSTAMP:20260424T102918Z
UID:5c5271cf-c3d3-4c1e-a183-0b50bd571659
DTSTART;VALUE=DATE:20250821
DTEND;VALUE=DATE:20250821
DESCRIPTION:Apple Valley BMX Moto Park
LOCATION:24320 Highway 18  Apple Valley CA 92307 USA
SUMMARY:Local Race Single
URL:/site/bmx_races/592492
END:VEVENT
END:VCALENDAR
