BEGIN:VCALENDAR
VERSION:2.0
PRODID:icalendar-ruby
CALSCALE:GREGORIAN
METHOD:PUBLISH
BEGIN:VEVENT
DTSTAMP:20260424T184701Z
UID:6544ab59-fe20-44f9-9a44-412504fd1bf7
DTSTART;VALUE=DATE:20250823
DTEND;VALUE=DATE:20250823
DESCRIPTION:Northern Virginia (NOVA) BMX
LOCATION:7 County Complex Court  Woodbridge VA 22192 USA
SUMMARY:Earned Double
URL:/site/bmx_races/592474
END:VEVENT
END:VCALENDAR
