BEGIN:VCALENDAR
VERSION:2.0
PRODID:icalendar-ruby
CALSCALE:GREGORIAN
METHOD:PUBLISH
BEGIN:VEVENT
DTSTAMP:20260424T192010Z
UID:f146773c-8445-49ba-920d-6b6f64746eff
DTSTART;VALUE=DATE:20250824
DTEND;VALUE=DATE:20250824
DESCRIPTION:Winnebagoland BMX
LOCATION:4650 Jackson Street  Oshkosh WI 54901 USA
SUMMARY:State Race Double
URL:/site/bmx_races/592435
END:VEVENT
END:VCALENDAR
