BEGIN:VCALENDAR
VERSION:2.0
PRODID:icalendar-ruby
CALSCALE:GREGORIAN
METHOD:PUBLISH
BEGIN:VEVENT
DTSTAMP:20260425T010648Z
UID:fef0a168-2fb1-4010-97d7-c01d381cc615
DTSTART;VALUE=DATE:20250814
DTEND;VALUE=DATE:20250814
DESCRIPTION:North Shore BMX
LOCATION:1301 Lillooet Road  North Vancouver BC V7J 3T7 CAN
SUMMARY:Local Race Single
URL:/site/bmx_races/592343
END:VEVENT
END:VCALENDAR
