BEGIN:VCALENDAR
VERSION:2.0
PRODID:icalendar-ruby
CALSCALE:GREGORIAN
METHOD:PUBLISH
BEGIN:VEVENT
DTSTAMP:20260425T161143Z
UID:3d6d1d2e-b7b4-4b98-aba2-35ff68d3215b
DTSTART;VALUE=DATE:20250813
DTEND;VALUE=DATE:20250813
DESCRIPTION:WALLA WALLA BMX
LOCATION:Fort Walla Walla Park   1898 Dalles Military Rd Walla Walla WA 993
 62 USA
SUMMARY:Local Race Single
URL:/site/bmx_races/592323
END:VEVENT
END:VCALENDAR
