BEGIN:VCALENDAR
VERSION:2.0
PRODID:icalendar-ruby
CALSCALE:GREGORIAN
METHOD:PUBLISH
BEGIN:VEVENT
DTSTAMP:20260424T190108Z
UID:0a4bb3e7-1361-4617-a989-49083fba21c7
DTSTART;VALUE=DATE:20250808
DTEND;VALUE=DATE:20250808
DESCRIPTION:Molalla River BMX
LOCATION:920 Toliver Rd  Molalla OR 97038 USA
SUMMARY:Earned Double
URL:/site/bmx_races/592257
END:VEVENT
END:VCALENDAR
