BEGIN:VCALENDAR
VERSION:2.0
PRODID:icalendar-ruby
CALSCALE:GREGORIAN
METHOD:PUBLISH
BEGIN:VEVENT
DTSTAMP:20260425T144152Z
UID:e6d1fb19-7a4b-47c9-ad67-b97f51cd78bd
DTSTART;VALUE=DATE:20250727
DTEND;VALUE=DATE:20250727
DESCRIPTION:Cape Cod BMX
LOCATION:65 Quaker Meetinghouse Rd   Sandwich MA 02563 USA
SUMMARY:Local Race Single
URL:/site/bmx_races/592155
END:VEVENT
END:VCALENDAR
