BEGIN:VCALENDAR
VERSION:2.0
PRODID:icalendar-ruby
CALSCALE:GREGORIAN
METHOD:PUBLISH
BEGIN:VEVENT
DTSTAMP:20260424T221949Z
UID:3363bd1a-7435-4dd7-a3bb-924e45df16e1
DTSTART;VALUE=DATE:20250802
DTEND;VALUE=DATE:20250802
DESCRIPTION:Heartland BMX
LOCATION:4801 Sw Shunga Dr  Topeka KS 66614 USA
SUMMARY:Local Race Single
URL:/site/bmx_races/592141
END:VEVENT
END:VCALENDAR
