BEGIN:VCALENDAR
VERSION:2.0
PRODID:icalendar-ruby
CALSCALE:GREGORIAN
METHOD:PUBLISH
BEGIN:VEVENT
DTSTAMP:20260425T114320Z
UID:b9433176-f810-4642-b352-c970efdabd88
DTSTART;VALUE=DATE:20250728
DTEND;VALUE=DATE:20250728
DESCRIPTION:Eagle County BMX
LOCATION:1700 Bull Pasture Rd  Eagle CO 81631 USA
SUMMARY:Local Race Single
URL:/site/bmx_races/592106
END:VEVENT
END:VCALENDAR
