BEGIN:VCALENDAR
VERSION:2.0
PRODID:icalendar-ruby
CALSCALE:GREGORIAN
METHOD:PUBLISH
BEGIN:VEVENT
DTSTAMP:20260424T105751Z
UID:d5b39fa0-c98a-49ee-b220-0814bfff7a4c
DTSTART;VALUE=DATE:20250729
DTEND;VALUE=DATE:20250729
DESCRIPTION:Oceanside BMX
LOCATION:354 Park Rd  Qualicum Beach BC V9Y3R5 CAN
SUMMARY:Race for Life Single
URL:/site/bmx_races/592076
END:VEVENT
END:VCALENDAR
