BEGIN:VCALENDAR
VERSION:2.0
PRODID:icalendar-ruby
CALSCALE:GREGORIAN
METHOD:PUBLISH
BEGIN:VEVENT
DTSTAMP:20260424T233820Z
UID:f89f6eb2-dc80-435d-a5ee-f692de4a668c
DTSTART;VALUE=DATE:20250727
DTEND;VALUE=DATE:20250727
DESCRIPTION:Grand Forks BMX
LOCATION:Kettle River Dr & 7th St  Grand Forks BC V0H1H0 CAN
SUMMARY:Race for Life Double
URL:/site/bmx_races/592059
END:VEVENT
END:VCALENDAR
