BEGIN:VCALENDAR
VERSION:2.0
PRODID:icalendar-ruby
CALSCALE:GREGORIAN
METHOD:PUBLISH
BEGIN:VEVENT
DTSTAMP:20260424T160708Z
UID:357418ff-a8a8-454e-8627-060199297711
DTSTART;VALUE=DATE:20250726
DTEND;VALUE=DATE:20250726
DESCRIPTION:Wheelhouse BMX
LOCATION:10401 E Hwy 89 A   Prescott AZ 86315 USA
SUMMARY:Local Race Single
URL:/site/bmx_races/592050
END:VEVENT
END:VCALENDAR
