BEGIN:VCALENDAR
VERSION:2.0
PRODID:icalendar-ruby
CALSCALE:GREGORIAN
METHOD:PUBLISH
BEGIN:VEVENT
DTSTAMP:20260424T201307Z
UID:9914e5d2-0fc2-410d-a037-6fcc5ecfcdfc
DTSTART;VALUE=DATE:20250724
DTEND;VALUE=DATE:20250724
DESCRIPTION:West Kootenay BMX
LOCATION:465 Salmo Heights Rd  Salmo BC V0G 1Z0 CAN
SUMMARY:Local Race Single
URL:/site/bmx_races/592035
END:VEVENT
END:VCALENDAR
