BEGIN:VCALENDAR
VERSION:2.0
PRODID:icalendar-ruby
CALSCALE:GREGORIAN
METHOD:PUBLISH
BEGIN:VEVENT
DTSTAMP:20260426T011141Z
UID:4bebfcab-0b1b-413a-8ffa-9ec7f82f00c5
DTSTART;VALUE=DATE:20250722
DTEND;VALUE=DATE:20250722
DESCRIPTION:Rad Canyon BMX
LOCATION:5200 W 9800 S  West Jordan UT 84081 USA
SUMMARY:Local Race Single
URL:/site/bmx_races/592010
END:VEVENT
END:VCALENDAR
