BEGIN:VCALENDAR
VERSION:2.0
PRODID:icalendar-ruby
CALSCALE:GREGORIAN
METHOD:PUBLISH
BEGIN:VEVENT
DTSTAMP:20260425T010808Z
UID:5447fa50-663a-446d-9dd4-c9ad7c3e219f
DTSTART;VALUE=DATE:20250723
DTEND;VALUE=DATE:20250723
DESCRIPTION:Twin Silo BMX
LOCATION:5400 Ziegler Rd.   Ft Collins CO 80528 USA
SUMMARY:Local Race Single
URL:/site/bmx_races/591968
END:VEVENT
END:VCALENDAR
