BEGIN:VCALENDAR
VERSION:2.0
PRODID:icalendar-ruby
CALSCALE:GREGORIAN
METHOD:PUBLISH
BEGIN:VEVENT
DTSTAMP:20260424T201432Z
UID:fccb9eb7-8f98-4198-bf73-8062c8023ab4
DTSTART;VALUE=DATE:20250719
DTEND;VALUE=DATE:20250719
DESCRIPTION:Reno Battleborn BMX
LOCATION:Sun Valley Gid Community Park 115 W 6th Ave Sun Valley NV 89433 US
 A
SUMMARY:Warnicke Single
URL:/site/bmx_races/591942
END:VEVENT
END:VCALENDAR
