BEGIN:VCALENDAR
VERSION:2.0
PRODID:icalendar-ruby
CALSCALE:GREGORIAN
METHOD:PUBLISH
BEGIN:VEVENT
DTSTAMP:20260425T013514Z
UID:2bf72146-b404-467c-94b1-d0b163e88bae
DTSTART;VALUE=DATE:20250712
DTEND;VALUE=DATE:20250712
DESCRIPTION:Heartland BMX
LOCATION:4801 Sw Shunga Dr  Topeka KS 66614 USA
SUMMARY:Race for Life Single
URL:/site/bmx_races/591913
END:VEVENT
END:VCALENDAR
