BEGIN:VCALENDAR
VERSION:2.0
PRODID:icalendar-ruby
CALSCALE:GREGORIAN
METHOD:PUBLISH
BEGIN:VEVENT
DTSTAMP:20260425T151342Z
UID:aa6e33e8-0fff-4c76-b0ef-7a5c79045315
DTSTART;VALUE=DATE:20250717
DTEND;VALUE=DATE:20250717
DESCRIPTION:EHT BMX
LOCATION:Veterans Memorial Park Ocean Heights Ave Egg Harbor Township NJ 08
 234 USA
SUMMARY:Local Race Single
URL:/site/bmx_races/591899
END:VEVENT
END:VCALENDAR
