BEGIN:VCALENDAR
VERSION:2.0
PRODID:icalendar-ruby
CALSCALE:GREGORIAN
METHOD:PUBLISH
BEGIN:VEVENT
DTSTAMP:20260424T190031Z
UID:eff5e8a5-448e-4474-b60d-c9fc92ca2497
DTSTART;VALUE=DATE:20250716
DTEND;VALUE=DATE:20250716
DESCRIPTION:Kelowna BMX
LOCATION:645 Dodd Rd  Kelowna BC V1X5H1 CAN
SUMMARY:Earned Double
URL:/site/bmx_races/591883
END:VEVENT
END:VCALENDAR
