BEGIN:VCALENDAR
VERSION:2.0
PRODID:icalendar-ruby
CALSCALE:GREGORIAN
METHOD:PUBLISH
BEGIN:VEVENT
DTSTAMP:20260424T115805Z
UID:e3bf425a-8462-4566-a2d6-b7cdeff856e5
DTSTART;VALUE=DATE:20250715
DTEND;VALUE=DATE:20250715
DESCRIPTION:Milton BMX - Track 2000 
LOCATION:Drumquin Park   Britania Road Milton ON L9T 7G6 CAN
SUMMARY:Race for Life Single
URL:/site/bmx_races/591869
END:VEVENT
END:VCALENDAR
