BEGIN:VCALENDAR
VERSION:2.0
PRODID:icalendar-ruby
CALSCALE:GREGORIAN
METHOD:PUBLISH
BEGIN:VEVENT
DTSTAMP:20260425T173911Z
UID:5ace1261-dee1-4da7-9c2d-263caa1d82b5
DTSTART;VALUE=DATE:20250715
DTEND;VALUE=DATE:20250715
DESCRIPTION:Supertrak BMX
LOCATION:Carrie Jane Gray Park 323 Del Laverdure Way Prince George BC V2N4Z
 5 CAN
SUMMARY:Local Race Single
URL:/site/bmx_races/591865
END:VEVENT
END:VCALENDAR
