BEGIN:VCALENDAR
VERSION:2.0
PRODID:icalendar-ruby
CALSCALE:GREGORIAN
METHOD:PUBLISH
BEGIN:VEVENT
DTSTAMP:20260424T143927Z
UID:20b4ba1b-c1d5-4f05-99da-88064a5796ad
DTSTART;VALUE=DATE:20250712
DTEND;VALUE=DATE:20250712
DESCRIPTION:Cape Coral BMX
LOCATION:1410 Sw 6th Place  Cape Coral FL 33991 USA
SUMMARY:Local Race Single
URL:/site/bmx_races/591822
END:VEVENT
END:VCALENDAR
