BEGIN:VCALENDAR
VERSION:2.0
PRODID:icalendar-ruby
CALSCALE:GREGORIAN
METHOD:PUBLISH
BEGIN:VEVENT
DTSTAMP:20260425T003915Z
UID:c2b23526-bd1c-4734-afea-aa4520209815
DTSTART;VALUE=DATE:20250710
DTEND;VALUE=DATE:20250710
DESCRIPTION:North Bay BMX
LOCATION:3291 Streblow Dr  Napa CA 94558 USA
SUMMARY:Warnicke Double
URL:/site/bmx_races/591811
END:VEVENT
END:VCALENDAR
