BEGIN:VCALENDAR
VERSION:2.0
PRODID:icalendar-ruby
CALSCALE:GREGORIAN
METHOD:PUBLISH
BEGIN:VEVENT
DTSTAMP:20260424T192811Z
UID:948d62ad-4f51-4c78-89bd-99a253a56871
DTSTART;VALUE=DATE:20250710
DTEND;VALUE=DATE:20250710
DESCRIPTION:Crown Mountain BMX Park
LOCATION:501 Eagle County Drive  El Jebel CO 81623 USA
SUMMARY:Local Race Single
URL:/site/bmx_races/591786
END:VEVENT
END:VCALENDAR
