BEGIN:VCALENDAR
VERSION:2.0
PRODID:icalendar-ruby
CALSCALE:GREGORIAN
METHOD:PUBLISH
BEGIN:VEVENT
DTSTAMP:20260425T200111Z
UID:1ebb2b12-5475-4630-93dc-3c14a763d0af
DTSTART;VALUE=DATE:20250705
DTEND;VALUE=DATE:20250705
DESCRIPTION:Reno Battleborn BMX
LOCATION:Sun Valley Gid Community Park 115 W 6th Ave Sun Valley NV 89433 US
 A
SUMMARY:Local Race Single
URL:/site/bmx_races/591697
END:VEVENT
END:VCALENDAR
