BEGIN:VCALENDAR
VERSION:2.0
PRODID:icalendar-ruby
CALSCALE:GREGORIAN
METHOD:PUBLISH
BEGIN:VEVENT
DTSTAMP:20260424T185735Z
UID:d2fdec30-cd32-451c-ae07-02b64ff2179b
DTSTART;VALUE=DATE:20250702
DTEND;VALUE=DATE:20250702
DESCRIPTION:Kelowna BMX
LOCATION:645 Dodd Rd  Kelowna BC V1X5H1 CAN
SUMMARY:Local Race Single
URL:/site/bmx_races/591676
END:VEVENT
END:VCALENDAR
